BEGIN:VCALENDAR
VERSION:2.0
PRODID:-//CertiCSS//CertiCSS Event//ES
CALSCALE:GREGORIAN
METHOD:PUBLISH
BEGIN:VTIMEZONE
TZID:America/Panama
BEGIN:STANDARD
DTSTART:19700101T000000
TZOFFSETFROM:-0500
TZOFFSETTO:-0500
TZNAME:EST
END:STANDARD
END:VTIMEZONE
BEGIN:VEVENT
UID:2d56980e-5cd3-420b-8524-b18ccb55fe22@certicss.css.gob.pa
DTSTAMP:20260423T052715Z
DTSTART;TZID=America/Panama:20260429T070000
DTEND;TZID=America/Panama:20260429T150000
SUMMARY:Jornada Docente de Atención Primaria en Salud (Colón)
DESCRIPTION:Jornada dirigida a personal de atención primaria en salud en la provincia de Colón para la educación continua, con un enfoque integral en beneficio de nuestros usuarios.

X-ALT-DESC;FMTTYPE=text/html:X-ALT-DESC;FMTTYPE=text/html:<a href="https://docenciamedica.org/buscar_certificados">Descargar</a>
LOCATION:Auditorio. Nuevo Hospital Dr. Manuel Amador Guerrero. Colón
URL:https://docenciamedica.org/resumen/4RL3NF
STATUS:CONFIRMED
TRANSP:OPAQUE
END:VEVENT
END:VCALENDAR