BEGIN:VCALENDAR
VERSION:2.0
PRODID:-//CertiCSS//CertiCSS Event//ES
CALSCALE:GREGORIAN
METHOD:PUBLISH
BEGIN:VTIMEZONE
TZID:America/Panama
BEGIN:STANDARD
DTSTART:19700101T000000
TZOFFSETFROM:-0500
TZOFFSETTO:-0500
TZNAME:EST
END:STANDARD
END:VTIMEZONE
BEGIN:VEVENT
UID:fad23297-aab4-4e23-a97d-e9a25744f1d5@certicss.css.gob.pa
DTSTAMP:20260423T052440Z
DTSTART;TZID=America/Panama:20260423T070000
DTEND;TZID=America/Panama:20260423T150000
RRULE:FREQ=DAILY;UNTIL=20260424T235959
SUMMARY:Taller de Manejo de Insulina: desde el inicio hasta la práctica clínica
DESCRIPTION:Taller práctico dirigido a médicos generales orientado a fortalecer competencias en el uso clínico de insulina. Incluye fundamentos, esquemas de inicio y ajuste, manejo de hipoglucemia y aplicación en escenarios frecuentes de la práctica.
X-ALT-DESC;FMTTYPE=text/html:X-ALT-DESC;FMTTYPE=text/html:<a href="https://docenciamedica.org/buscar_certificados">Descargar</a>
LOCATION:Edificio del Instituto de Investigación, Innovación y Gestión del Conocimiento
URL:https://docenciamedica.org/resumen/OCR2CC
STATUS:CONFIRMED
TRANSP:OPAQUE
END:VEVENT
END:VCALENDAR