BEGIN:VCALENDAR
VERSION:2.0
PRODID:-//CertiCSS//CertiCSS Event//ES
CALSCALE:GREGORIAN
METHOD:PUBLISH
BEGIN:VTIMEZONE
TZID:America/Panama
BEGIN:STANDARD
DTSTART:19700101T000000
TZOFFSETFROM:-0500
TZOFFSETTO:-0500
TZNAME:EST
END:STANDARD
END:VTIMEZONE
BEGIN:VEVENT
UID:83345354-2782-4103-bdeb-c3bbd5a6323b@certicss.css.gob.pa
DTSTAMP:20260423T053307Z
DTSTART;TZID=America/Panama:20260430T063000
DTEND;TZID=America/Panama:20260430T160000
SUMMARY:SIMPOSIO NACIONAL ENTORNOS DE TRABAJO PSICOSOCIALES SALUDABLES
DESCRIPTION:fortalecer formación, el conocimiento y habilidades de los participantes en  herramientas practicas para la  prevención, intervención y manejo en entornos psicosociales laborales.
X-ALT-DESC;FMTTYPE=text/html:X-ALT-DESC;FMTTYPE=text/html:<a href="https://docenciamedica.org/buscar_certificados">Descargar</a>
LOCATION:HOTEL MARRIOT PANAMA ALBROOK-SALÓN GRAN COLÓN
URL:https://docenciamedica.org/resumen/UOOQ7F
STATUS:CONFIRMED
TRANSP:OPAQUE
END:VEVENT
END:VCALENDAR